BEGIN:VCALENDAR
VERSION:2.0
PRODID:-//wp-events-plugin.com//7.2.3.1//EN
TZID:Europe/Berlin
X-WR-TIMEZONE:Europe/Berlin
BEGIN:VEVENT
UID:276@dkkv.org
DTSTART;TZID=Europe/Berlin:20231122T080000
DTEND;TZID=Europe/Berlin:20231122T110000
DTSTAMP:20231030T132612Z
URL:https://dkkv.org/veranstaltungen/strengthening-disaster-and-climate-ch
 ange-finance-undrr/
SUMMARY:Strengthening Disaster and Climate Change Finance - UNDRR
DESCRIPTION:On Wednesday\, 22. November 2023\, UNDRR is conducting an onlin
 e training "strengthening disaster and climate change finance" budget tagg
 ing for disaster risk reduction and climate change adaptation.\n\nThe onli
 ne training will explore a new methodology for the design and implementati
 on of combined disaster risk reduction (DRR) and climate change adaptation
  (CCA) budget tagging and tracking. An integrated approach to DRR and CCA 
 can lead to more efficient and effective use of public resources for the a
 chievement of the Paris Agreement\, the Sendai Framework for Disaster Risk
  Reduction and the Sustainable Development Goals.\n\nFor further Informati
 on\, please click here.
END:VEVENT
BEGIN:VTIMEZONE
TZID:Europe/Berlin
X-LIC-LOCATION:Europe/Berlin
BEGIN:STANDARD
DTSTART:20231029T020000
TZOFFSETFROM:+0200
TZOFFSETTO:+0100
TZNAME:CET
END:STANDARD
END:VTIMEZONE
END:VCALENDAR