BEGIN:VCALENDAR
VERSION:2.0
PRODID:-//wp-events-plugin.com//7.2.3.1//EN
TZID:Europe/Berlin
X-WR-TIMEZONE:Europe/Berlin
BEGIN:VEVENT
UID:790@dkkv.org
DTSTART;TZID=Europe/Berlin;VALUE=DATE:20260508
DTEND;TZID=Europe/Berlin;VALUE=DATE:20260511
DTSTAMP:20260422T075456Z
URL:https://dkkv.org/veranstaltungen/europatag-in-eupen/
SUMMARY:Europatag in Eupen „Eine Katastrophe im Herzen von Europa“
DESCRIPTION:Anlässlich des Europatags findet vom 8. bis 10. Mai 2026 in Eu
 pen die Veranstaltung „Eine Katastrophe im Herzen von Europa“ statt. I
 m Zentrum stehen Gedenken\, Austausch und die gemeinsame Reflexion der Flu
 tkatastrophe 2021 sowie ihrer langfristigen Folgen für Gesellschaft\, Pol
 itik und Katastrophenvorsorge.\nDas vielfältige Programm umfasst neben de
 r Ausstellung auch Vorträge und Diskussionsrunden mit Vertreter:innen aus
  Politik\, Wissenschaft\, Einsatzpraxis und Zivilgesellschaft. Thematisier
 t werden unter anderem die Lehren aus der Flutkatastrophe\, Herausforderun
 gen im Katastrophenschutz\, die Rolle von Ehrenamt und kommunaler Verantwo
 rtung sowie Ansätze für ein resilienteres Europa.\nDie Veranstaltung bie
 tet damit eine Plattform für grenzüberschreitenden Austausch und richtet
  sich an Fachöffentlichkeit ebenso wie an interessierte Bürger:innen. Zi
 el ist es\, Erfahrungen sichtbar zu machen\, voneinander zu lernen und Imp
 ulse für die zukünftige Ausgestaltung von Katastrophenvorsorge und Wiede
 raufbau zu setzen.\nMehr Informationen zur Ausstellung und dem Europatag i
 n Eupen finden Sie unter folgender Webseite.
CATEGORIES:Extern
LOCATION:Haus Küchenberg\, Haasstraße 42\, Eupen\, 4700\, Belgien
X-APPLE-STRUCTURED-LOCATION;VALUE=URI;X-ADDRESS=Haasstraße 42\, Eupen\, 47
 00\, Belgien;X-APPLE-RADIUS=100;X-TITLE=Haus Küchenberg:geo:0,0
END:VEVENT
BEGIN:VTIMEZONE
TZID:Europe/Berlin
X-LIC-LOCATION:Europe/Berlin
BEGIN:DAYLIGHT
DTSTART:20260329T030000
TZOFFSETFROM:+0100
TZOFFSETTO:+0200
TZNAME:CEST
END:DAYLIGHT
END:VTIMEZONE
END:VCALENDAR