BEGIN:VCALENDAR
VERSION:2.0
PRODID:-//wp-events-plugin.com//7.2.3.1//EN
TZID:Europe/Berlin
X-WR-TIMEZONE:Europe/Berlin
BEGIN:VEVENT
UID:789@dkkv.org
DTSTART;TZID=Europe/Berlin:20260506T120000
DTEND;TZID=Europe/Berlin:20260506T130000
DTSTAMP:20260421T135912Z
URL:https://dkkv.org/veranstaltungen/dkkv-lunchtalk-santa-marta-konferenz-
 transitioning-away-from-fossil-fuels/
SUMMARY:DKKV-Lunchtalk: Santa Marta Konferenz -   Transitioning  away from 
 Fossil Fuels
DESCRIPTION:Die Wissenschaft ist sich einig: Der Ausstieg aus fossilen Bren
 nstoffen ist notwendig – und er ist machbar. Er ebnet den Weg zu einem s
 auberen\, sicheren\, gesunden und sozial gerechten Energiesystem und bilde
 t eine zentrale Grundlage für langfristigen Wohlstand. Die aktuelle Energ
 iekrise eröffnet dabei ein entscheidendes Zeitfenster\, um diesen Wandel 
 deutlich zu beschleunigen.\n\nEnde April findet in Kolumbien die auf der K
 limakonferenz in Belém angekündigte „Transition away“-Konferenz stat
 t\, bei der sich Staaten versammeln\, die diesen Transformationsprozess ak
 tiv vorantreiben wollen. Ein internationales Wissenschaftsteam begleitet d
 iesen Prozess und zeigt konkrete Maßnahmen auf\, die Regierungen jetzt er
 greifen können.\n\nIm Lunchtalk mit Dr. Friedrich Bohn\, einem der Koordi
 natoren des Santa Marta Reports\, erhalten Teilnehmende exklusive Einblick
 e in die Ergebnisse der wissenschaftlichen Vorkonferenz\, den Bericht selb
 st sowie in die politischen Dynamiken der Konferenz. Zudem diskutieren wir
 \, welche Bedeutung die Energiewende für die Katastrophenvorsorge und Ris
 ikominderung hat – etwa mit Blick auf die Reduktion klimabedingter Extre
 mereignisse\, die Stärkung von Resilienz und die Vermeidung zukünftiger 
 Schäden.\n\nEin LunchTalk für alle\, die wissen wollen\, wie Klimapoliti
 k\, Energiewende und Katastrophenvorsorge zusammengedacht werden müssen 
 – und was jetzt zu tun ist.\n\nDie Teilnahme ist kostenlos\, nach vorher
 iger Registrierung online über Zoom möglich.\n\nMehr Informationen über
  die "1st Conference - Transitioning away from Fossil Fuels" finden Sie au
 f folgender Webseite.
CATEGORIES:DKKV
LOCATION:https://us02web.zoom.us/meeting/register/_WKWMSRBR8Wlx78GHAB77g
END:VEVENT
BEGIN:VTIMEZONE
TZID:Europe/Berlin
X-LIC-LOCATION:Europe/Berlin
BEGIN:DAYLIGHT
DTSTART:20260329T030000
TZOFFSETFROM:+0100
TZOFFSETTO:+0200
TZNAME:CEST
END:DAYLIGHT
END:VTIMEZONE
END:VCALENDAR