BEGIN:VCALENDAR
VERSION:2.0
PRODID:-//wp-events-plugin.com//7.2.3.1//EN
TZID:Europe/Berlin
X-WR-TIMEZONE:Europe/Berlin
BEGIN:VEVENT
UID:37@dkkv.org
DTSTART;TZID=Europe/Dublin;VALUE=DATE:20230619
DTEND;TZID=Europe/Dublin;VALUE=DATE:20230622
DTSTAMP:20230307T105804Z
URL:https://dkkv.org/veranstaltungen/6th-european-climate-change-adaptatio
 n-conference-2023/
SUMMARY:6th European Climate Change Adaptation Conference 2023
DESCRIPTION:Actionable Knowledge for a Climate Resilient Europe\nEurope’s
  influential climate adaptation conference\, ECCA 2023\, takes place from 
 19 to 21 June 2023\, and will be held in Dublin\, Ireland.The Joint Progra
 mme Initiative "Connecting Climate Knowledge for Europe" (JPI Climate)\, t
 ogether with the MAGICA project\, supported by the European Commission\, i
 s organizing this edition of ECCA. It will be an in-person event over two 
 days for up to 500 people with live streaming of all plenary sessions and 
 interactive hybrid formats.The goal of the conference\, among the goals of
  the previous ECCA editions\, is to inspire adaptation by showcasing solut
 ions\, exchanging knowledge\, creating connections\, and encouraging dialo
 gue on how to act more and faster at every level.\n\nThematic Topics:\n\n 
 	Stepping Up Climate Action: Support Through Climate Platforms and Service
 s\n 	Adaptation Responses to Sea Level Rise and Coastal Change\n 	Nature-B
 ased Solutions for Climate Change Adaptation\n 	Preparing for More Frequen
 t and Severe Climate Extremes\n 	Reframing Societal Transformation by Chal
 lenging Underlying Assumptions\n 	Climate and Social Resilience of Future 
 Energy Infrastructure and Systems\n\nFor further information\, use the lin
 k below.
CATEGORIES:Extern
LOCATION:ECCA 2023\, Saint James' (part of Phoenix Park)\, Dublin 8\, Dubli
 n\, Irland
X-APPLE-STRUCTURED-LOCATION;VALUE=URI;X-ADDRESS=Saint James' (part of Phoen
 ix Park)\, Dublin 8\, Dublin\, Irland;X-APPLE-RADIUS=100;X-TITLE=ECCA 2023
 :geo:0,0
END:VEVENT
BEGIN:VTIMEZONE
TZID:Europe/Dublin
X-LIC-LOCATION:Europe/Dublin
BEGIN:DAYLIGHT
DTSTART:20230326T020000
TZOFFSETFROM:+0000
TZOFFSETTO:+0100
TZNAME:IST
END:DAYLIGHT
END:VTIMEZONE
END:VCALENDAR