BEGIN:VCALENDAR
VERSION:2.0
PRODID:-//wp-events-plugin.com//7.2.3.1//EN
TZID:Europe/Berlin
X-WR-TIMEZONE:Europe/Berlin
BEGIN:VEVENT
UID:648@dkkv.org
DTSTART;TZID=Europe/Berlin;VALUE=DATE:20250612
DTEND;TZID=Europe/Berlin;VALUE=DATE:20250615
DTSTAMP:20250522T083947Z
URL:https://dkkv.org/veranstaltungen/5-internationale-ausstellung-fuer-feu
 erschutz-und-rettungswesen-kielce-ifre-expo/
SUMMARY:5. Internationale Ausstellung für Feuerschutz und Rettungswesen KI
 ELCE IFRE-EXPO
DESCRIPTION:Die größte Fachmesse für Feuerwehrausrüstung in Mittel- und
  Osteuropa richtet sich an Hersteller\, Händler und Fachbesucher aus der 
 Feuerwehr- und Rettungsbranche. Im Fokus stehen der Austausch über neue T
 echnologien sowie die Diskussion aktueller Themen im Katastrophenschutz. E
 rgänzend zur Ausstellung werden Fachkonferenzen\, Workshops und Wettbewer
 be zur fachlichen Weiterbildung und Nachwuchsförderung veranstaltet. Weit
 ere Informationen und die Anmeldung zur Fachmesse finden Sie auf der Webse
 ite.
CATEGORIES:Extern
LOCATION:Targi Kielce S.A.\, ul. Zakładowa 1\, Kielce\,  25-672\, Polen
X-APPLE-STRUCTURED-LOCATION;VALUE=URI;X-ADDRESS=ul. Zakładowa 1\, Kielce\,
   25-672\, Polen;X-APPLE-RADIUS=100;X-TITLE=Targi Kielce S.A.:geo:0,0
END:VEVENT
BEGIN:VTIMEZONE
TZID:Europe/Berlin
X-LIC-LOCATION:Europe/Berlin
BEGIN:DAYLIGHT
DTSTART:20250330T030000
TZOFFSETFROM:+0100
TZOFFSETTO:+0200
TZNAME:CEST
END:DAYLIGHT
END:VTIMEZONE
END:VCALENDAR