BEGIN:VCALENDAR
VERSION:2.0
PRODID:-//wp-events-plugin.com//7.2.3.1//EN
TZID:Europe/Berlin
X-WR-TIMEZONE:Europe/Berlin
BEGIN:VEVENT
UID:66@dkkv.org
DTSTART;TZID=Europe/Berlin;VALUE=DATE:20230509
DTEND;TZID=Europe/Berlin;VALUE=DATE:20230511
DTSTAMP:20230412T071720Z
URL:https://dkkv.org/veranstaltungen/2-kahr-wissenschaftskonferenz/
SUMMARY:2. KAHR Wissenschaftskonferenz
DESCRIPTION:Vom 09. bis 10. Mai 2023 findet die  2. digitale KAHR Wissensc
 haftskonferenz statt. Seit der letzten Wissenschaftskonferenz im Juni 2022
  ist der Wiederaufbau der vom Hochwasser betroffenen Regionen mit wissensc
 haftlicher Begleitung und ersten Ergebnissen weit vorangeschritten. Zu bes
 tehenden Fragestellungen sind neue hinzugekommen\, aber auch ein hoher Erk
 enntnisgewinn ist zu verzeichnen\, der in der zweiten Auflage der KAHR Wis
 senschaftskonferenz gebündelt werden soll.\n\nDie Anmeldung zu dieser Ver
 anstaltung ist kostenlos und bis zum 08.05.2023 möglich. Darüber hinaus 
 wurde die Deadline für die Einreichung von Abstracts auf den 18.04.2023 v
 erlängert.\n\nWeitere Informationen finden Sie hier.
CATEGORIES:Extern,Job-Börse
END:VEVENT
BEGIN:VTIMEZONE
TZID:Europe/Berlin
X-LIC-LOCATION:Europe/Berlin
BEGIN:DAYLIGHT
DTSTART:20230326T030000
TZOFFSETFROM:+0100
TZOFFSETTO:+0200
TZNAME:CEST
END:DAYLIGHT
END:VTIMEZONE
END:VCALENDAR